BEGIN:VCALENDAR
VERSION:2.0
PRODID:-//Fellowship of Oklahoma Ale Makers - ECPv6.15.17.1//NONSGML v1.0//EN
CALSCALE:GREGORIAN
METHOD:PUBLISH
X-WR-CALNAME:Fellowship of Oklahoma Ale Makers
X-ORIGINAL-URL:https://alemakers.org
X-WR-CALDESC:Events for Fellowship of Oklahoma Ale Makers
REFRESH-INTERVAL;VALUE=DURATION:PT1H
X-Robots-Tag:noindex
X-PUBLISHED-TTL:PT1H
BEGIN:VTIMEZONE
TZID:America/Chicago
BEGIN:DAYLIGHT
TZOFFSETFROM:-0600
TZOFFSETTO:-0500
TZNAME:CDT
DTSTART:20210314T080000
END:DAYLIGHT
BEGIN:STANDARD
TZOFFSETFROM:-0500
TZOFFSETTO:-0600
TZNAME:CST
DTSTART:20211107T070000
END:STANDARD
BEGIN:DAYLIGHT
TZOFFSETFROM:-0600
TZOFFSETTO:-0500
TZNAME:CDT
DTSTART:20220313T080000
END:DAYLIGHT
BEGIN:STANDARD
TZOFFSETFROM:-0500
TZOFFSETTO:-0600
TZNAME:CST
DTSTART:20221106T070000
END:STANDARD
BEGIN:DAYLIGHT
TZOFFSETFROM:-0600
TZOFFSETTO:-0500
TZNAME:CDT
DTSTART:20230312T080000
END:DAYLIGHT
BEGIN:STANDARD
TZOFFSETFROM:-0500
TZOFFSETTO:-0600
TZNAME:CST
DTSTART:20231105T070000
END:STANDARD
END:VTIMEZONE
BEGIN:VEVENT
DTSTART;TZID=America/Chicago:20220612T140000
DTEND;TZID=America/Chicago:20220612T180000
DTSTAMP:20260422T133434
CREATED:20220604T035801Z
LAST-MODIFIED:20220604T035801Z
UID:32143-1655042400-1655056800@alemakers.org
SUMMARY:June Picnic and FOAM Meeting
DESCRIPTION:It’s been a few years since we’ve had our annual picnic. It’s back! \nBring your homebrew and appetite and join in the fun.\nThis is the one event where we encourage everyone to bring the whole family.  We’ve reserved Shelter #3 at Chandler Park. \nFOAM provides the meat and we ask that everyone else bring a side dish and homebrew to share. \nThere will be a silent auction. FOAMers are encouraged to bring homebrew equipment that they no longer use\, special beers\, and anything beer related to donate to the auction. Donors can set a minimum bid if they wish. \nThere will also be a raffle with items donated by High Gravity. \nWe will also have a short meeting around 2:30.\nSee everyone there!
URL:https://alemakers.org/event/june-picnic-and-foam-meeting/
ATTACH;FMTTYPE=image/jpeg:https://alemakers.org/wp-content/uploads/2022/06/32139_image_285331196_435246288608594_8107527264256037738_n.jpg
END:VEVENT
END:VCALENDAR